Package: pairkat Version: 1.13.0 Command: rm -rf pairkat.buildbin-libdir && mkdir pairkat.buildbin-libdir && E:\biocbuild\bbs-3.21-bioc\R\bin\R.exe CMD INSTALL --build --library=pairkat.buildbin-libdir pairkat_1.13.0.tar.gz StartedAt: 2025-02-04 08:33:53 -0500 (Tue, 04 Feb 2025) EndedAt: 2025-02-04 08:34:21 -0500 (Tue, 04 Feb 2025) EllapsedTime: 27.7 seconds RetCode: 0 Status: OK PackageFile: pairkat_1.13.0.zip PackageFileSize: 803.8 KiB