Package: pairkat Version: 1.15.0 Command: /home/biocbuild/bbs-3.22-bioc/R/bin/R CMD INSTALL pairkat StartedAt: 2025-10-16 16:21:12 -0400 (Thu, 16 Oct 2025) EndedAt: 2025-10-16 16:21:35 -0400 (Thu, 16 Oct 2025) EllapsedTime: 23.4 seconds RetCode: 0 Status: OK