Package: pairkat Version: 1.15.0 Command: /home/biocbuild/bbs-3.22-bioc/R/bin/R CMD build --keep-empty-dirs --no-resave-data --md5 pairkat StartedAt: 2025-10-16 20:15:31 -0400 (Thu, 16 Oct 2025) EndedAt: 2025-10-16 20:20:00 -0400 (Thu, 16 Oct 2025) EllapsedTime: 269.4 seconds RetCode: 0 Status: OK PackageFile: pairkat_1.15.0.tar.gz PackageFileSize: 818.7 KiB