Package: pairkat Version: 1.13.0 Command: /home/biocbuild/bbs-3.21-bioc/R/bin/R CMD INSTALL pairkat StartedAt: 2025-02-03 15:33:31 -0500 (Mon, 03 Feb 2025) EndedAt: 2025-02-03 15:33:54 -0500 (Mon, 03 Feb 2025) EllapsedTime: 23.4 seconds RetCode: 0 Status: OK