Package: pairkat Version: 1.13.0 Command: /home/biocbuild/bbs-3.21-bioc/R/bin/R CMD build --keep-empty-dirs --no-resave-data pairkat StartedAt: 2025-02-03 18:42:45 -0500 (Mon, 03 Feb 2025) EndedAt: 2025-02-03 18:45:36 -0500 (Mon, 03 Feb 2025) EllapsedTime: 171.2 seconds RetCode: 0 Status: OK PackageFile: pairkat_1.13.0.tar.gz PackageFileSize: 816.2 KiB