Package: pairkat Version: 1.13.0 Command: /Library/Frameworks/R.framework/Resources/bin/R CMD check --install=check:pairkat.install-out.txt --library=/Library/Frameworks/R.framework/Resources/library --no-vignettes --timings pairkat_1.13.0.tar.gz StartedAt: 2025-02-03 22:18:32 -0500 (Mon, 03 Feb 2025) EndedAt: 2025-02-03 22:27:26 -0500 (Mon, 03 Feb 2025) EllapsedTime: 533.8 seconds RetCode: 0 Status: OK CheckDir: pairkat.Rcheck Warnings: 0