Package: pairkat Version: 1.13.0 Command: /Library/Frameworks/R.framework/Resources/bin/R CMD build --keep-empty-dirs --no-resave-data pairkat StartedAt: 2025-02-03 17:48:32 -0500 (Mon, 03 Feb 2025) EndedAt: 2025-02-03 17:49:55 -0500 (Mon, 03 Feb 2025) EllapsedTime: 82.9 seconds RetCode: 0 Status: OK PackageFile: pairkat_1.13.0.tar.gz PackageFileSize: 826.2 KiB