Package: pairedGSEA Version: 1.9.0 Command: chmod a+r pairedGSEA -R && F:\biocbuild\bbs-3.22-bioc\R\bin\R.exe CMD build --keep-empty-dirs --no-resave-data pairedGSEA StartedAt: 2025-08-14 22:09:14 -0400 (Thu, 14 Aug 2025) EndedAt: 2025-08-14 22:12:38 -0400 (Thu, 14 Aug 2025) EllapsedTime: 203.6 seconds RetCode: 0 Status: OK PackageFile: pairedGSEA_1.9.0.tar.gz PackageFileSize: 543.1 KiB