Package: pairedGSEA Version: 1.7.0 Command: E:\biocbuild\bbs-3.21-bioc\R\bin\R.exe CMD check --no-multiarch --install=check:pairedGSEA.install-out.txt --library=E:\biocbuild\bbs-3.21-bioc\R\library --no-vignettes --timings pairedGSEA_1.7.0.tar.gz StartedAt: 2025-02-15 04:01:41 -0500 (Sat, 15 Feb 2025) EndedAt: 2025-02-15 04:10:30 -0500 (Sat, 15 Feb 2025) EllapsedTime: 528.5 seconds RetCode: 0 Status: OK CheckDir: pairedGSEA.Rcheck Warnings: 0