Package: pairedGSEA Version: 1.9.0 Command: rm -rf pairedGSEA.buildbin-libdir && mkdir pairedGSEA.buildbin-libdir && /Users/biocbuild/BBS/utils/build-universal.sh pairedGSEA_1.9.0.tar.gz /Library/Frameworks/R.framework/Resources/bin/R pairedGSEA.buildbin-libdir StartedAt: 2025-05-09 22:50:51 -0400 (Fri, 09 May 2025) EndedAt: 2025-05-09 22:51:08 -0400 (Fri, 09 May 2025) EllapsedTime: 16.5 seconds RetCode: 0 Status: OK PackageFile: pairedGSEA_1.9.0.tgz PackageFileSize: 673.5 KiB