Package: pairedGSEA Version: 1.7.0 Maintainer: Søren Helweg Dam MaintainerEmail: sohdam at dtu.dk git_url: https://git.bioconductor.org/packages/pairedGSEA git_branch: devel git_last_commit: 7731ffe git_last_commit_date: 2025-02-12 07:54:15 -0500 (Wed, 12 Feb 2025)