Package: pageRank Version: 1.19.0 Command: /Library/Frameworks/R.framework/Resources/bin/R CMD INSTALL pageRank StartedAt: 2025-05-05 15:41:46 -0400 (Mon, 05 May 2025) EndedAt: 2025-05-05 15:42:36 -0400 (Mon, 05 May 2025) EllapsedTime: 50.4 seconds RetCode: 0 Status: OK