Package: pageRank Version: 1.19.0 Command: /Library/Frameworks/R.framework/Resources/bin/R CMD build --keep-empty-dirs --no-resave-data pageRank StartedAt: 2025-05-07 17:49:55 -0400 (Wed, 07 May 2025) EndedAt: 2025-05-07 17:52:56 -0400 (Wed, 07 May 2025) EllapsedTime: 181.4 seconds RetCode: 0 Status: OK PackageFile: pageRank_1.19.0.tar.gz PackageFileSize: 122.4 KiB