Package: pageRank Version: 1.19.0 Command: /Library/Frameworks/R.framework/Resources/bin/R CMD INSTALL pageRank StartedAt: 2025-05-08 15:28:12 -0400 (Thu, 08 May 2025) EndedAt: 2025-05-08 15:28:30 -0400 (Thu, 08 May 2025) EllapsedTime: 18.1 seconds RetCode: 0 Status: OK