Package: packFinder Version: 1.21.0 Command: /Library/Frameworks/R.framework/Resources/bin/R CMD check --install=check:packFinder.install-out.txt --library=/Library/Frameworks/R.framework/Resources/library --no-vignettes --timings packFinder_1.21.0.tar.gz StartedAt: 2025-05-09 22:29:46 -0400 (Fri, 09 May 2025) EndedAt: 2025-05-09 22:31:27 -0400 (Fri, 09 May 2025) EllapsedTime: 101.6 seconds RetCode: 0 Status: OK CheckDir: packFinder.Rcheck Warnings: 0