Package: packFinder Version: 1.21.0 Command: /Library/Frameworks/R.framework/Resources/bin/R CMD build --keep-empty-dirs --no-resave-data packFinder StartedAt: 2025-05-09 17:17:28 -0400 (Fri, 09 May 2025) EndedAt: 2025-05-09 17:17:34 -0400 (Fri, 09 May 2025) EllapsedTime: 6.1 seconds RetCode: 0 Status: OK PackageFile: packFinder_1.21.0.tar.gz PackageFileSize: 1.132 MiB