Package: packFinder Version: 1.21.0 Command: rm -rf packFinder.buildbin-libdir && mkdir packFinder.buildbin-libdir && /Users/biocbuild/BBS/utils/build-universal.sh packFinder_1.21.0.tar.gz /Library/Frameworks/R.framework/Resources/bin/R packFinder.buildbin-libdir StartedAt: 2025-05-09 22:50:46 -0400 (Fri, 09 May 2025) EndedAt: 2025-05-09 22:50:48 -0400 (Fri, 09 May 2025) EllapsedTime: 2.1 seconds RetCode: 0 Status: OK PackageFile: packFinder_1.21.0.tgz PackageFileSize: 1.163 MiB