Package: pRolocGUI Version: 2.19.0 Command: rm -rf pRolocGUI.buildbin-libdir && mkdir pRolocGUI.buildbin-libdir && F:\biocbuild\bbs-3.22-bioc\R\bin\R.exe CMD INSTALL --build --library=pRolocGUI.buildbin-libdir pRolocGUI_2.19.0.tar.gz StartedAt: 2025-08-15 11:00:16 -0400 (Fri, 15 Aug 2025) EndedAt: 2025-08-15 11:01:22 -0400 (Fri, 15 Aug 2025) EllapsedTime: 66.2 seconds RetCode: 0 Status: OK PackageFile: pRolocGUI_2.19.0.zip PackageFileSize: 1.774 MiB