Package: orthogene Version: 1.15.02 Command: /home/biocbuild/bbs-3.22-bioc/R/bin/R CMD INSTALL orthogene StartedAt: 2025-10-07 15:30:44 -0400 (Tue, 07 Oct 2025) EndedAt: 2025-10-07 15:30:55 -0400 (Tue, 07 Oct 2025) EllapsedTime: 10.8 seconds RetCode: 0 Status: OK