Package: optimalFlow Version: 1.19.0 Command: /home/biocbuild/bbs-3.21-bioc/R/bin/R CMD INSTALL optimalFlow StartedAt: 2025-02-21 15:55:48 -0500 (Fri, 21 Feb 2025) EndedAt: 2025-02-21 15:56:07 -0500 (Fri, 21 Feb 2025) EllapsedTime: 18.6 seconds RetCode: 0 Status: OK