Package: optimalFlow Version: 1.19.0 Command: /home/biocbuild/bbs-3.21-bioc/R/bin/R CMD build --keep-empty-dirs --no-resave-data optimalFlow StartedAt: 2025-02-21 18:54:50 -0500 (Fri, 21 Feb 2025) EndedAt: 2025-02-21 19:01:25 -0500 (Fri, 21 Feb 2025) EllapsedTime: 394.7 seconds RetCode: 0 Status: OK PackageFile: optimalFlow_1.19.0.tar.gz PackageFileSize: 1.317 MiB