Package: optimalFlow Version: 1.19.0 Command: /Library/Frameworks/R.framework/Resources/bin/R CMD INSTALL optimalFlow StartedAt: 2025-02-21 15:15:05 -0500 (Fri, 21 Feb 2025) EndedAt: 2025-02-21 15:15:13 -0500 (Fri, 21 Feb 2025) EllapsedTime: 8.3 seconds RetCode: 0 Status: OK