Package: oppar Version: 1.35.0 Command: /Library/Frameworks/R.framework/Resources/bin/R CMD build --keep-empty-dirs --no-resave-data oppar StartedAt: 2025-02-21 17:40:59 -0500 (Fri, 21 Feb 2025) EndedAt: 2025-02-21 17:42:13 -0500 (Fri, 21 Feb 2025) EllapsedTime: 74.3 seconds RetCode: 0 Status: OK PackageFile: oppar_1.35.0.tar.gz PackageFileSize: 3.399 MiB