Package: oppar Version: 1.35.0 Command: rm -rf oppar.buildbin-libdir && mkdir oppar.buildbin-libdir && /Users/biocbuild/BBS/utils/build-universal.sh oppar_1.35.0.tar.gz /Library/Frameworks/R.framework/Resources/bin/R oppar.buildbin-libdir StartedAt: 2025-02-22 00:45:07 -0500 (Sat, 22 Feb 2025) EndedAt: 2025-02-22 00:46:02 -0500 (Sat, 22 Feb 2025) EllapsedTime: 54.5 seconds RetCode: 0 Status: OK PackageFile: oppar_1.35.0.tgz PackageFileSize: 5.262 MiB