Package: openPrimeR Version: 1.31.1 Command: rm -rf openPrimeR.buildbin-libdir && mkdir openPrimeR.buildbin-libdir && F:\biocbuild\bbs-3.22-bioc\R\bin\R.exe CMD INSTALL --build --library=openPrimeR.buildbin-libdir openPrimeR_1.31.1.tar.gz StartedAt: 2025-08-15 10:53:10 -0400 (Fri, 15 Aug 2025) EndedAt: 2025-08-15 10:57:35 -0400 (Fri, 15 Aug 2025) EllapsedTime: 264.6 seconds RetCode: 0 Status: OK PackageFile: openPrimeR_1.31.1.zip PackageFileSize: 3.229 MiB