Package: openPrimeR Version: 1.29.0 Command: rm -rf openPrimeR.buildbin-libdir && mkdir openPrimeR.buildbin-libdir && /Users/biocbuild/BBS/utils/build-universal.sh openPrimeR_1.29.0.tar.gz /Library/Frameworks/R.framework/Resources/bin/R openPrimeR.buildbin-libdir StartedAt: 2025-01-31 22:26:10 -0500 (Fri, 31 Jan 2025) EndedAt: 2025-01-31 22:26:22 -0500 (Fri, 31 Jan 2025) EllapsedTime: 12.3 seconds RetCode: 0 Status: OK PackageFile: openPrimeR_1.29.0.tgz PackageFileSize: 3.069 MiB