Package: openCyto Version: 2.21.0 Command: chmod a+r openCyto -R && F:\biocbuild\bbs-3.22-bioc\R\bin\R.exe CMD build --keep-empty-dirs --no-resave-data openCyto StartedAt: 2025-08-14 22:01:56 -0400 (Thu, 14 Aug 2025) EndedAt: 2025-08-14 22:09:42 -0400 (Thu, 14 Aug 2025) EllapsedTime: 465.5 seconds RetCode: 0 Status: OK PackageFile: openCyto_2.21.0.tar.gz PackageFileSize: 1.05 MiB