Package: openCyto Version: 2.21.0 Command: rm -rf openCyto.buildbin-libdir && mkdir openCyto.buildbin-libdir && F:\biocbuild\bbs-3.22-bioc\R\bin\R.exe CMD INSTALL --build --library=openCyto.buildbin-libdir openCyto_2.21.0.tar.gz StartedAt: 2025-08-15 10:53:09 -0400 (Fri, 15 Aug 2025) EndedAt: 2025-08-15 10:56:28 -0400 (Fri, 15 Aug 2025) EllapsedTime: 199.3 seconds RetCode: 0 Status: OK PackageFile: openCyto_2.21.0.zip PackageFileSize: 1.99 MiB