############################################################################## ############################################################################## ### ### Running command: ### ### E:\biocbuild\bbs-3.21-bioc\R\bin\R.exe CMD check --no-multiarch --install=check:ontoProc.install-out.txt --library=E:\biocbuild\bbs-3.21-bioc\R\library --no-vignettes --timings ontoProc_2.1.4.tar.gz ### ############################################################################## ############################################################################## * using log directory 'E:/biocbuild/bbs-3.21-bioc/meat/ontoProc.Rcheck' * using R Under development (unstable) (2025-01-21 r87610 ucrt) * using platform: x86_64-w64-mingw32 * R was compiled by gcc.exe (GCC) 13.3.0 GNU Fortran (GCC) 13.3.0 * running under: Windows Server 2022 x64 (build 20348) * using session charset: UTF-8 * using option '--no-vignettes' * checking for file 'ontoProc/DESCRIPTION' ... OK * this is package 'ontoProc' version '2.1.4' * package encoding: UTF-8 * checking package namespace information ... OK * checking package dependencies ... OK * checking if this is a source package ... OK * checking if there is a namespace ... OK * checking for hidden files and directories ... OK * checking for portable file names ... OK * checking whether package 'ontoProc' can be installed ... OK * checking installed package size ... INFO installed size is 10.4Mb sub-directories of 1Mb or more: app 1.9Mb data 1.8Mb ontoRda 2.8Mb owl 3.3Mb * checking package directory ... OK * checking 'build' directory ... OK * checking DESCRIPTION meta-information ... OK * checking top-level files ... OK * checking for left-over files ... OK * checking index information ... OK * checking package subdirectories ... OK * checking code files for non-ASCII characters ... OK * checking R files for syntax errors ... OK * checking whether the package can be loaded ... OK * checking whether the package can be loaded with stated dependencies ... OK * checking whether the package can be unloaded cleanly ... OK * checking whether the namespace can be loaded with stated dependencies ... OK * checking whether the namespace can be unloaded cleanly ... OK * checking dependencies in R code ... NOTE ':::' call which should be '::': 'ontologyPlot:::remove_uninformative_terms' See the note in ?`:::` about the use of this operator. * checking S3 generic/method consistency ... OK * checking replacement functions ... OK * checking foreign function calls ... OK * checking R code for possible problems ... NOTE CLfeat : prupdate: no visible binding for global variable 'PROSYM' CLfeat : prupdate: no visible binding for global variable 'PRID' CLfeat : prupdate: no visible binding for global variable 'SYMBOL' ctmarks : server: no visible binding for global variable 'text' ctmarks : server: no visible binding for global variable 'packDesc2022' ctmarks : server: no visible binding for global variable 'packDesc2021' ctmarks: no visible binding for global variable 'cumu' dropStop: no visible binding for global variable 'stopWords' getOnto: no visible binding for global variable 'rdatadateadded' getOnto: no visible binding for global variable 'title' getOnto: no visible binding for global variable 'description' ldfToTerm: no visible binding for global variable 'PROSYM' sym2CellOnto: no visible binding for global variable 'PROSYM' sym2CellOnto: no visible binding for global variable 'SYMBOL' Undefined global functions or variables: PRID PROSYM SYMBOL cumu description packDesc2021 packDesc2022 rdatadateadded stopWords text title Consider adding importFrom("graphics", "text", "title") to your NAMESPACE file. * checking Rd files ... OK * checking Rd metadata ... OK * checking Rd cross-references ... NOTE Found the following Rd file(s) with Rd \link{} targets missing package anchors: findCommonAncestors.Rd: graph, DataFrame-class, List-class Please provide package anchors for all Rd \link{} targets not in the package itself and the base packages. * checking for missing documentation entries ... OK * checking for code/documentation mismatches ... OK * checking Rd \usage sections ... NOTE S3 methods shown with full name in Rd file 'plot.owlents.Rd': 'plot.owlents' The \usage entries for S3 methods should use the \method markup and not their full name. See chapter 'Writing R documentation files' in the 'Writing R Extensions' manual. * checking Rd contents ... OK * checking for unstated dependencies in examples ... OK * checking contents of 'data' directory ... OK * checking data for non-ASCII characters ... OK * checking data for ASCII and uncompressed saves ... OK * checking files in 'vignettes' ... OK * checking examples ... OK Examples with CPU (user + system) or elapsed time > 5s user system elapsed sym2CellOnto 48.73 1.91 52.25 CLfeats 32.62 2.18 36.44 siblings_TAG 28.47 2.25 31.54 getLeavesFromTerm 19.61 0.84 23.32 fastGrep 15.99 0.80 20.52 nomenCheckup 14.79 0.88 18.69 cleanCLOnames 14.53 0.81 15.69 common_classes 12.84 1.27 15.25 findCommonAncestors 11.53 1.08 14.51 liberalMap 11.14 0.96 13.33 mapOneNaive 10.66 0.83 12.46 make_graphNEL_from_ontology_plot 10.45 0.97 11.69 selectFromMap 10.42 0.85 11.44 TermSet-class 10.45 0.78 11.66 getOnto 10.39 0.80 11.46 secLevGen 10.35 0.72 11.28 ontoDiff 8.87 1.32 12.73 onto_plot2 8.86 0.80 9.74 bioregistry_ols_resources 0.42 5.51 46.70 search_labels 0.59 0.06 155.44 * checking for unstated dependencies in 'tests' ... OK * checking tests ... Running 'test.R' OK * checking for unstated dependencies in vignettes ... OK * checking package vignettes ... OK * checking running R code from vignettes ... SKIPPED * checking re-building of vignette outputs ... SKIPPED * checking PDF version of manual ... OK * DONE Status: 4 NOTEs See 'E:/biocbuild/bbs-3.21-bioc/meat/ontoProc.Rcheck/00check.log' for details.