Package: ontoProc Version: 2.1.4 Command: /Library/Frameworks/R.framework/Resources/bin/R CMD INSTALL ontoProc StartedAt: 2025-02-03 15:51:46 -0500 (Mon, 03 Feb 2025) EndedAt: 2025-02-03 15:51:59 -0500 (Mon, 03 Feb 2025) EllapsedTime: 13.4 seconds RetCode: 0 Status: OK