Package: ontoProc Version: 2.1.4 Command: /Library/Frameworks/R.framework/Resources/bin/R CMD check --install=check:ontoProc.install-out.txt --library=/Library/Frameworks/R.framework/Resources/library --no-vignettes --timings ontoProc_2.1.4.tar.gz StartedAt: 2025-02-03 21:06:24 -0500 (Mon, 03 Feb 2025) EndedAt: 2025-02-03 21:11:52 -0500 (Mon, 03 Feb 2025) EllapsedTime: 327.9 seconds RetCode: 0 Status: OK CheckDir: ontoProc.Rcheck Warnings: 0