Package: onlineFDR Version: 2.17.0 Command: rm -rf onlineFDR.buildbin-libdir && mkdir onlineFDR.buildbin-libdir && F:\biocbuild\bbs-3.22-bioc\R\bin\R.exe CMD INSTALL --build --library=onlineFDR.buildbin-libdir onlineFDR_2.17.0.tar.gz StartedAt: 2025-08-15 10:53:05 -0400 (Fri, 15 Aug 2025) EndedAt: 2025-08-15 10:54:19 -0400 (Fri, 15 Aug 2025) EllapsedTime: 74.0 seconds RetCode: 0 Status: OK PackageFile: onlineFDR_2.17.0.zip PackageFileSize: 1.619 MiB