Package: onlineFDR Version: 2.15.0 Command: /home/biocbuild/bbs-3.21-bioc/R/bin/R CMD check --install=check:onlineFDR.install-out.txt --library=/home/biocbuild/bbs-3.21-bioc/R/site-library --timings onlineFDR_2.15.0.tar.gz StartedAt: 2025-02-04 01:03:26 -0500 (Tue, 04 Feb 2025) EndedAt: 2025-02-04 01:03:56 -0500 (Tue, 04 Feb 2025) EllapsedTime: 30.0 seconds RetCode: 0 Status: OK CheckDir: onlineFDR.Rcheck Warnings: 0