Package: oncoscanR Version: 1.11.0 Command: /Library/Frameworks/R.framework/Resources/bin/R CMD INSTALL oncoscanR StartedAt: 2025-04-28 15:15:23 -0400 (Mon, 28 Apr 2025) EndedAt: 2025-04-28 15:15:40 -0400 (Mon, 28 Apr 2025) EllapsedTime: 16.6 seconds RetCode: 0 Status: OK