Package: oncoscanR Version: 1.11.0 Command: /Library/Frameworks/R.framework/Resources/bin/R CMD check --install=check:oncoscanR.install-out.txt --library=/Library/Frameworks/R.framework/Resources/library --no-vignettes --timings oncoscanR_1.11.0.tar.gz StartedAt: 2025-04-29 22:16:53 -0400 (Tue, 29 Apr 2025) EndedAt: 2025-04-29 22:24:58 -0400 (Tue, 29 Apr 2025) EllapsedTime: 484.5 seconds RetCode: 0 Status: OK CheckDir: oncoscanR.Rcheck Warnings: 0