Package: oncoscanR Version: 1.11.0 Command: rm -rf oncoscanR.buildbin-libdir && mkdir oncoscanR.buildbin-libdir && /Users/biocbuild/BBS/utils/build-universal.sh oncoscanR_1.11.0.tar.gz /Library/Frameworks/R.framework/Resources/bin/R oncoscanR.buildbin-libdir StartedAt: 2025-04-30 00:53:43 -0400 (Wed, 30 Apr 2025) EndedAt: 2025-04-30 00:54:03 -0400 (Wed, 30 Apr 2025) EllapsedTime: 19.6 seconds RetCode: 0 Status: OK PackageFile: oncoscanR_1.11.0.tgz PackageFileSize: 1.045 MiB