Package: oncoscanR Version: 1.9.0 Command: /home/biocbuild/R/R/bin/R CMD build --keep-empty-dirs --no-resave-data oncoscanR StartedAt: 2025-01-29 01:00:37 -0000 (Wed, 29 Jan 2025) EndedAt: 2025-01-29 01:04:57 -0000 (Wed, 29 Jan 2025) EllapsedTime: 260.4 seconds RetCode: 0 Status: OK PackageFile: oncoscanR_1.9.0.tar.gz PackageFileSize: 1015 KiB