Package: oncomix Version: 1.31.0 Command: rm -rf oncomix.buildbin-libdir && mkdir oncomix.buildbin-libdir && F:\biocbuild\bbs-3.22-bioc\R\bin\R.exe CMD INSTALL --build --library=oncomix.buildbin-libdir oncomix_1.31.0.tar.gz StartedAt: 2025-08-15 10:52:57 -0400 (Fri, 15 Aug 2025) EndedAt: 2025-08-15 10:53:28 -0400 (Fri, 15 Aug 2025) EllapsedTime: 31.0 seconds RetCode: 0 Status: OK PackageFile: oncomix_1.31.0.zip PackageFileSize: 1.721 MiB