Package: oncomix Version: 1.33.0 Command: /home/biocbuild/bbs-3.23-bioc/R/bin/R CMD INSTALL oncomix StartedAt: 2025-10-31 15:44:11 -0400 (Fri, 31 Oct 2025) EndedAt: 2025-10-31 15:44:34 -0400 (Fri, 31 Oct 2025) EllapsedTime: 23.4 seconds RetCode: 0 Status: OK