Package: oncomix Version: 1.33.0 Command: /home/biocbuild/bbs-3.23-bioc/R/bin/R CMD build --keep-empty-dirs --no-resave-data oncomix StartedAt: 2025-11-02 19:00:48 -0500 (Sun, 02 Nov 2025) EndedAt: 2025-11-02 19:01:31 -0500 (Sun, 02 Nov 2025) EllapsedTime: 43.0 seconds RetCode: 0 Status: OK PackageFile: oncomix_1.33.0.tar.gz PackageFileSize: 2.396 MiB