Package: ompBAM Version: 1.13.0 Command: /Library/Frameworks/R.framework/Resources/bin/R CMD INSTALL ompBAM StartedAt: 2025-07-25 15:04:58 -0400 (Fri, 25 Jul 2025) EndedAt: 2025-07-25 15:05:16 -0400 (Fri, 25 Jul 2025) EllapsedTime: 17.7 seconds RetCode: 0 Status: OK