Package: omicsViewer Version: 1.13.2 Command: /home/biocbuild/R/R/bin/R CMD INSTALL omicsViewer StartedAt: 2025-10-23 20:45:54 -0000 (Thu, 23 Oct 2025) EndedAt: 2025-10-23 20:46:41 -0000 (Thu, 23 Oct 2025) EllapsedTime: 46.9 seconds RetCode: 0 Status: OK