Package: omicsViewer Version: 1.13.2 Command: /home/biocbuild/R/R/bin/R CMD build --keep-empty-dirs --no-resave-data omicsViewer StartedAt: 2025-10-21 01:47:59 -0000 (Tue, 21 Oct 2025) EndedAt: 2025-10-21 01:49:51 -0000 (Tue, 21 Oct 2025) EllapsedTime: 112.0 seconds RetCode: 0 Status: OK PackageFile: omicsViewer_1.13.2.tar.gz PackageFileSize: 4.387 MiB