Package: omicsViewer Version: 1.13.0 Command: /Library/Frameworks/R.framework/Resources/bin/R CMD build --keep-empty-dirs --no-resave-data omicsViewer StartedAt: 2025-05-09 17:51:40 -0400 (Fri, 09 May 2025) EndedAt: 2025-05-09 17:52:40 -0400 (Fri, 09 May 2025) EllapsedTime: 60.6 seconds RetCode: 0 Status: OK PackageFile: omicsViewer_1.13.0.tar.gz PackageFileSize: 4.325 MiB