Package: omicsViewer Version: 1.13.0 Command: /Library/Frameworks/R.framework/Resources/bin/R CMD INSTALL omicsViewer StartedAt: 2025-05-09 15:16:04 -0400 (Fri, 09 May 2025) EndedAt: 2025-05-09 15:16:19 -0400 (Fri, 09 May 2025) EllapsedTime: 14.8 seconds RetCode: 0 Status: OK