Package: omicsPrint Version: 1.29.0 Command: /home/biocbuild/bbs-3.22-bioc/R/bin/R CMD INSTALL omicsPrint StartedAt: 2025-10-03 15:19:27 -0400 (Fri, 03 Oct 2025) EndedAt: 2025-10-03 15:19:53 -0400 (Fri, 03 Oct 2025) EllapsedTime: 25.7 seconds RetCode: 0 Status: OK