Package: omicsPrint Version: 1.29.0 Command: rm -rf omicsPrint.buildbin-libdir && mkdir omicsPrint.buildbin-libdir && /Users/biocbuild/BBS/utils/build-universal.sh omicsPrint_1.29.0.tar.gz /Library/Frameworks/R.framework/Resources/bin/R omicsPrint.buildbin-libdir StartedAt: 2025-05-10 00:59:39 -0400 (Sat, 10 May 2025) EndedAt: 2025-05-10 01:00:19 -0400 (Sat, 10 May 2025) EllapsedTime: 39.4 seconds RetCode: 0 Status: OK PackageFile: omicsPrint_1.29.0.tgz PackageFileSize: 7.417 MiB