Package: omicsGMF Version: 1.1.0 Command: /Library/Frameworks/R.framework/Resources/bin/R CMD build --keep-empty-dirs --no-resave-data omicsGMF StartedAt: 2025-11-20 17:11:46 -0500 (Thu, 20 Nov 2025) EndedAt: 2025-11-20 17:12:21 -0500 (Thu, 20 Nov 2025) EllapsedTime: 34.4 seconds RetCode: 0 Status: OK PackageFile: omicsGMF_1.1.0.tar.gz PackageFileSize: 661.2 KiB