Package: omicsGMF Version: 1.1.0 Command: rm -rf omicsGMF.buildbin-libdir && mkdir omicsGMF.buildbin-libdir && /Users/biocbuild/BBS/utils/build-universal.sh omicsGMF_1.1.0.tar.gz /Library/Frameworks/R.framework/Resources/bin/R omicsGMF.buildbin-libdir StartedAt: 2025-11-20 23:44:47 -0500 (Thu, 20 Nov 2025) EndedAt: 2025-11-20 23:45:03 -0500 (Thu, 20 Nov 2025) EllapsedTime: 16.4 seconds RetCode: 0 Status: OK PackageFile: omicsGMF_1.1.0.tgz PackageFileSize: 746.8 KiB