Package: omicplotR Version: 1.27.0 Command: rm -rf omicplotR.buildbin-libdir && mkdir omicplotR.buildbin-libdir && E:\biocbuild\bbs-3.21-bioc\R\bin\R.exe CMD INSTALL --build --library=omicplotR.buildbin-libdir omicplotR_1.27.0.tar.gz StartedAt: 2025-02-06 08:37:40 -0500 (Thu, 06 Feb 2025) EndedAt: 2025-02-06 08:38:15 -0500 (Thu, 06 Feb 2025) EllapsedTime: 34.9 seconds RetCode: 0 Status: OK PackageFile: omicplotR_1.27.0.zip PackageFileSize: 1.183 MiB